BEGIN:VCALENDAR
VERSION:2.0
PRODID:-//Les Bains de l&#039;Est - ECPv4.6.8//NONSGML v1.0//EN
CALSCALE:GREGORIAN
METHOD:PUBLISH
X-WR-CALNAME:Les Bains de l&#039;Est
X-ORIGINAL-URL:https://bainsdelest.ch
X-WR-CALDESC:Events for Les Bains de l&#039;Est
BEGIN:VEVENT
DTSTART;TZID=Europe/Paris:20270911T140000
DTEND;TZID=Europe/Paris:20270912T040000
DTSTAMP:20260420T012423
CREATED:20180103T233252Z
LAST-MODIFIED:20180103T233252Z
UID:21650-1820671200-1820721600@bainsdelest.ch
SUMMARY:Bear
DESCRIPTION:Toute la journée et soirée pour les Bears et les admirateurs de Bear. Gâteaux\, pizzas\, tartines au miel et chocolat offerts. Dès 20H00 MOUSSE PARTY au sous-sol\, venez vous perdre dans les bras de beaux hommes poilus et musclés pour sexe torride et viril. \n
URL:https://bainsdelest.ch/event/bear/2027-09-11/
END:VEVENT
END:VCALENDAR