BEGIN:VCALENDAR
VERSION:2.0
PRODID:-//Les Bains de l&#039;Est - ECPv4.6.8//NONSGML v1.0//EN
CALSCALE:GREGORIAN
METHOD:PUBLISH
X-WR-CALNAME:Les Bains de l&#039;Est
X-ORIGINAL-URL:https://bainsdelest.ch
X-WR-CALDESC:Events for Les Bains de l&#039;Est
BEGIN:VEVENT
DTSTART;TZID=Europe/Paris:20250728T120000
DTEND;TZID=Europe/Paris:20250729T010000
DTSTAMP:20260422T084557
CREATED:20180103T230614Z
LAST-MODIFIED:20250728T072754Z
UID:13250-1753704000-1753750800@bainsdelest.ch
SUMMARY:Gay -26 ans (événement annulé)
DESCRIPTION:Entrée offerte* aux moins de 26 ans… plus d’excuses !\nToutes les installations\, sauna\, jacuzzi\, bain de vapeur\, cabines/vidéos à disposition. Saisissez ce privilège pour découvrir un sauna soigné et exclusif. \n*Sous réserve de 5.- de consommation au bar \n
URL:https://bainsdelest.ch/event/gay-26-ans-2024-01-01-2025-07-28/
CATEGORIES:Gay
ATTACH;FMTTYPE=image/jpeg:https://bainsdelest.ch/app/uploads/2018/01/nvsn.jpg
END:VEVENT
END:VCALENDAR