BEGIN:VCALENDAR
VERSION:2.0
PRODID:-//Les Bains de l&#039;Est - ECPv4.6.8//NONSGML v1.0//EN
CALSCALE:GREGORIAN
METHOD:PUBLISH
X-WR-CALNAME:Les Bains de l&#039;Est
X-ORIGINAL-URL:https://bainsdelest.ch
X-WR-CALDESC:Events for Les Bains de l&#039;Est
BEGIN:VEVENT
DTSTART;TZID=Europe/Paris:20270909T120000
DTEND;TZID=Europe/Paris:20270910T020000
DTSTAMP:20260420T014716
CREATED:20180103T223603Z
LAST-MODIFIED:20180103T223603Z
UID:21648-1820491200-1820541600@bainsdelest.ch
SUMMARY:Jeudi ouvert à tous
DESCRIPTION:Le jeudi\, gays et hétéros sortent leur lingerie\,\njockstrap\, nuisette\, string\, culotte\, ou même tout nu\,\nouvert à tous\, le week end commence maintenant \n
URL:https://bainsdelest.ch/event/gay-duo-2022-01-06/2027-09-09/
END:VEVENT
END:VCALENDAR