BEGIN:VCALENDAR
VERSION:2.0
PRODID:-//Les Bains de l&#039;Est - ECPv4.6.8//NONSGML v1.0//EN
CALSCALE:GREGORIAN
METHOD:PUBLISH
X-WR-CALNAME:Les Bains de l&#039;Est
X-ORIGINAL-URL:https://bainsdelest.ch
X-WR-CALDESC:Events for Les Bains de l&#039;Est
BEGIN:VEVENT
DTSTART;TZID=Europe/Paris:20270810T120000
DTEND;TZID=Europe/Paris:20270811T020000
DTSTAMP:20260419T234432
CREATED:20180103T225807Z
LAST-MODIFIED:20180103T225807Z
UID:21612-1817899200-1817949600@bainsdelest.ch
SUMMARY:Mixte mardi
DESCRIPTION:Mesdames\, vous cherchez du plaisir\, un moment sensuel\, de la tendresse à l’extase\, sans tabou\, ont ont vous attendent de midi à 02H00 les mardis. \n
URL:https://bainsdelest.ch/event/mixte-mardi-2022-01-04/2027-08-10/
END:VEVENT
END:VCALENDAR