BEGIN:VCALENDAR
VERSION:2.0
PRODID:-//Les Bains de l&#039;Est - ECPv4.6.8//NONSGML v1.0//EN
CALSCALE:GREGORIAN
METHOD:PUBLISH
X-WR-CALNAME:Les Bains de l&#039;Est
X-ORIGINAL-URL:https://bainsdelest.ch
X-WR-CALDESC:Events for Les Bains de l&#039;Est
BEGIN:VEVENT
DTSTART;TZID=Europe/Paris:20270514T120000
DTEND;TZID=Europe/Paris:20270515T040000
DTSTAMP:20260419T164242
CREATED:20180103T232323Z
LAST-MODIFIED:20250718T083904Z
UID:20994-1810296000-1810353600@bainsdelest.ch
SUMMARY:Mixte vendredi
DESCRIPTION:Mesdames\, vous cherchez du plaisir\, un moment sensuel\, de la tendresse à l’extase\, sans tabou\, des hommes chauds et endurants vous attendent de midi à 02H00 les mardis et les vendredis de midi à 04H00 \n
URL:https://bainsdelest.ch/event/mixte-vendredi/2027-05-14/
CATEGORIES:Femmes,Hétéro,Mixte
ATTACH;FMTTYPE=image/png:https://bainsdelest.ch/app/uploads/2018/01/11.png
END:VEVENT
END:VCALENDAR