BEGIN:VCALENDAR
VERSION:2.0
PRODID:-//Les Bains de l&#039;Est - ECPv4.6.8//NONSGML v1.0//EN
CALSCALE:GREGORIAN
METHOD:PUBLISH
X-WR-CALNAME:Les Bains de l&#039;Est
X-ORIGINAL-URL:https://bainsdelest.ch
X-WR-CALDESC:Events for Les Bains de l&#039;Est
BEGIN:VEVENT
DTSTART;TZID=Europe/Paris:20270730T120000
DTEND;TZID=Europe/Paris:20270731T040000
DTSTAMP:20260419T201845
CREATED:20180103T232323Z
LAST-MODIFIED:20180103T232323Z
UID:21601-1816948800-1817006400@bainsdelest.ch
SUMMARY:Mixte vendredi
DESCRIPTION:Mesdames\, vous cherchez du plaisir\, un moment sensuel\, de la tendresse à l’extase\, sans tabou\, des hommes chauds et endurants vous attendent de midi à 02H00 les mardis et les vendredis de midi à 04H00 \n
URL:https://bainsdelest.ch/event/mixte-vendredi/2027-07-30/
END:VEVENT
END:VCALENDAR