BEGIN:VCALENDAR
VERSION:2.0
PRODID:-//Les Bains de l&#039;Est - ECPv4.6.8//NONSGML v1.0//EN
CALSCALE:GREGORIAN
METHOD:PUBLISH
X-WR-CALNAME:Les Bains de l&#039;Est
X-ORIGINAL-URL:https://bainsdelest.ch
X-WR-CALDESC:Events for Les Bains de l&#039;Est
BEGIN:VEVENT
DTSTART;TZID=Europe/Paris:20271030T210000
DTEND;TZID=Europe/Paris:20271031T040000
DTSTAMP:20260420T053035
CREATED:20180103T235152Z
LAST-MODIFIED:20180103T235152Z
UID:21723-1824930000-1824955200@bainsdelest.ch
SUMMARY:Soirée Échangistes & Mousse Party
DESCRIPTION:Un rendez vous incontournable sur Genève\, cette soirée réservée aux couples mixtes – h/f (on rentre à 2\, on sort à 2) redonne au mot échangiste toutes ses lettres de noblesse.\nDans une ambiance chic et festive\, venez rencontrer\, échanger\, … profiter.\nUne nuit que vous n’allez pas oublier. \nBuffet Offert \nTarif special pour les -30ans : -50% (sur présentation d’une pièce d’identité) \n14H-19H Journée gays et lesbiennes / CHF 25.- \n
URL:https://bainsdelest.ch/event/soiree-echangistes/2027-10-30/
END:VEVENT
END:VCALENDAR